BEGIN:VCALENDAR
VERSION:2.0
PRODID:-//Regina Floral Conservatory - ECPv6.7.1//NONSGML v1.0//EN
CALSCALE:GREGORIAN
METHOD:PUBLISH
X-WR-CALNAME:Regina Floral Conservatory
X-ORIGINAL-URL:https://reginafloralconservatory.ca
X-WR-CALDESC:Events for Regina Floral Conservatory
REFRESH-INTERVAL;VALUE=DURATION:PT1H
X-Robots-Tag:noindex
X-PUBLISHED-TTL:PT1H
BEGIN:VTIMEZONE
TZID:America/Regina
BEGIN:STANDARD
TZOFFSETFROM:-0600
TZOFFSETTO:-0600
TZNAME:CST
DTSTART:20240101T000000
END:STANDARD
END:VTIMEZONE
BEGIN:VEVENT
DTSTART;VALUE=DATE:20241016
DTEND;VALUE=DATE:20241127
DTSTAMP:20260420T043540
CREATED:20240809T161811Z
LAST-MODIFIED:20240809T161811Z
UID:1782-1729036800-1732665599@reginafloralconservatory.ca
SUMMARY:Harvest Hoedown Floral Display
DESCRIPTION:
URL:https://reginafloralconservatory.ca/event/harvest-hoedown-floral-display/
LOCATION:Saskatchewan
ATTACH;FMTTYPE=image/jpeg:https://reginafloralconservatory.ca/wp-content/uploads/2024/08/20231013_131427-scaled.jpg
END:VEVENT
BEGIN:VEVENT
DTSTART;VALUE=DATE:20241123
DTEND;VALUE=DATE:20241124
DTSTAMP:20260420T043540
CREATED:20241003T222756Z
LAST-MODIFIED:20241020T013906Z
UID:1866-1732320000-1732406399@reginafloralconservatory.ca
SUMMARY:Purdy's Chocolates Fundraiser Order Deadline
DESCRIPTION:Orders for the Purdy’s Chocolate fundraiser must be placed by November 23\, 2024 \nOrders can be made online here or via a catalogue and regular mail. \nThe campaign number is 50810 \nTo request a catalogue\, stop by reception at the floral conservatory or contact: \nKatherine 306-352-8850\nor Ingrid 306-533-3381 \nSend mail orders to: \nKatherine Yesensky\n1445 Bond Street\, Regina\, SK\nS4N 1X2 \nOrders can be picked up from 2:00 pm to 3:00 pm at the floral conservatory on December 7\, 2024
URL:https://reginafloralconservatory.ca/event/purdys-chocolates-fundraiser-order-deadline/
LOCATION:Regina Floral Conservatory\, 1450B 4th Avenue\, Regina\, Saskatchewan\, S4R 8G8\, Canada
ATTACH;FMTTYPE=image/png:https://reginafloralconservatory.ca/wp-content/uploads/2024/10/Purdys-Social.png
ORGANIZER;CN="Regina Garden Associates":MAILTO:info@reginafloralconservatory.ca
END:VEVENT
END:VCALENDAR