BEGIN:VCALENDAR
VERSION:2.0
PRODID:-//Regina Floral Conservatory - ECPv6.7.1//NONSGML v1.0//EN
CALSCALE:GREGORIAN
METHOD:PUBLISH
X-ORIGINAL-URL:https://reginafloralconservatory.ca
X-WR-CALDESC:Events for Regina Floral Conservatory
REFRESH-INTERVAL;VALUE=DURATION:PT1H
X-Robots-Tag:noindex
X-PUBLISHED-TTL:PT1H
BEGIN:VTIMEZONE
TZID:America/Regina
BEGIN:STANDARD
TZOFFSETFROM:-0600
TZOFFSETTO:-0600
TZNAME:CST
DTSTART:20260101T000000
END:STANDARD
END:VTIMEZONE
BEGIN:VEVENT
DTSTART;TZID=America/Regina:20260117T060000
DTEND;TZID=America/Regina:20260117T203000
DTSTAMP:20260420T070850
CREATED:20251025T161721Z
LAST-MODIFIED:20251111T164954Z
UID:2262-1768629600-1768681800@reginafloralconservatory.ca
SUMMARY:A Magical Night in the Garden - Ukrainian
DESCRIPTION:Join us for a night of cheese and cheer at the Regina Floral Conservatory! This time we will have a Ukrainian theme! \nOn January 17th\, the Regina Garden Associates will be hosting an enchanting night of charcuterie in our stunning tropical garden. The Regina Floral Conservatory is exceptional during the day\, but it has a special kind of magic at night! \nExperience the magic of the conservatory after dark with a friend or significant other\, or gather a group together for added fun! Your ticket includes a gourmet charcuterie board for two (full menu below)\, as well as toast-worthy virgin sangria. Coffee and tea will also be on offer. \nThis event will have two sittings: \nFirst sitting: Saturday\, January 17\, 2026 6:00 pm – 7:00 pm (30 tickets) \nSecond sitting: Saturday\, January 17\, 2026 7:30 pm – 8:30 pm (30 tickets) \nCost: $50 per ticket (+ applicable taxes/fees)\, and each ticket is meant for two people \nTickets will go on sale at noon on Saturday\, December 27 and ticket sales will close at 3 PM on Saturday\, January 10. \nTickets can be purchased through Eventbrite HERE! \nTickets are first come first served and will sell fast — be prepared! \nIf you are purchasing your tickets separately but wish to be seated together please email the names of the people in your party to info@reginafloralconservatory.ca \nDue to capacity limitations\, you must attend the sitting for which you purchased tickets. \nUnfortunately\, we will not be able to provide a gluten-free option for this event. \nAll proceeds will go to the Regina Garden Associates to operate the Regina Floral Conservatory and support our programs. \nAll meats and cheeses for this event are sourced from local suppliers\, including Euro Deli Kiev\, Ukrainian Co-op\, and Butcher Boy Meats.
URL:https://reginafloralconservatory.ca/event/a-magical-night-in-the-garden-2/
LOCATION:Regina Floral Conservatory\, 1450B 4th Avenue\, Regina\, Saskatchewan\, S4R 8G8\, Canada
ATTACH;FMTTYPE=image/jpeg:https://reginafloralconservatory.ca/wp-content/uploads/2025/10/Magical-Night-in-the-Garden-Ukrainian_thumbnail.jpg
ORGANIZER;CN="Regina Garden Associates":MAILTO:info@reginafloralconservatory.ca
END:VEVENT
END:VCALENDAR