BEGIN:VCALENDAR
VERSION:2.0
PRODID:-//Regina Floral Conservatory - ECPv6.7.1//NONSGML v1.0//EN
CALSCALE:GREGORIAN
METHOD:PUBLISH
X-WR-CALNAME:Regina Floral Conservatory
X-ORIGINAL-URL:https://reginafloralconservatory.ca
X-WR-CALDESC:Events for Regina Floral Conservatory
REFRESH-INTERVAL;VALUE=DURATION:PT1H
X-Robots-Tag:noindex
X-PUBLISHED-TTL:PT1H
BEGIN:VTIMEZONE
TZID:America/Regina
BEGIN:STANDARD
TZOFFSETFROM:-0600
TZOFFSETTO:-0600
TZNAME:CST
DTSTART:20260101T000000
END:STANDARD
END:VTIMEZONE
BEGIN:VEVENT
DTSTART;TZID=America/Regina:20260422T190000
DTEND;TZID=America/Regina:20260422T203000
DTSTAMP:20260422T044352
CREATED:20260407T002003Z
LAST-MODIFIED:20260407T002003Z
UID:2569-1776884400-1776889800@reginafloralconservatory.ca
SUMMARY:RGA Member Meet & Greet
DESCRIPTION:You are invited to a come and go RGA member event at the Regina Floral Conservatory on Wednesday\, April 22 from 7:00 to 8:30 pm! \nWant to learn more about the Regina Garden Associates (RGA) and the Regina Floral Conservatory? Perhaps you’d like more information on the new floral conservatory project. Or maybe\, you’ve always wanted to come spend some time in the floral conservatory during the evening. Then this event is for you! \nThis come and go event is an opportunity for new members to the RGA to meet other members and the board. \nCoffee\, tea\, and some light snacks will be provided. \nAdmission is free for RGA members. To help us keep track of numbers\, please reserve your spot in advance via Eventbrite HERE \nThank you for supporting the RGA and the Regina Floral Conservatory! We look forward to seeing you at this event!
URL:https://reginafloralconservatory.ca/event/rga-member-meet-greet/
LOCATION:Regina Floral Conservatory\, 1450B 4th Avenue\, Regina\, Saskatchewan\, S4R 8G8\, Canada
ATTACH;FMTTYPE=image/jpeg:https://reginafloralconservatory.ca/wp-content/uploads/2026/04/20260405_102223-scaled.jpg
ORGANIZER;CN="Regina Garden Associates":MAILTO:info@reginafloralconservatory.ca
END:VEVENT
END:VCALENDAR