BEGIN:VCALENDAR
VERSION:2.0
PRODID:-//Regina Floral Conservatory - ECPv6.7.1//NONSGML v1.0//EN
CALSCALE:GREGORIAN
METHOD:PUBLISH
X-WR-CALNAME:Regina Floral Conservatory
X-ORIGINAL-URL:https://reginafloralconservatory.ca
X-WR-CALDESC:Events for Regina Floral Conservatory
REFRESH-INTERVAL;VALUE=DURATION:PT1H
X-Robots-Tag:noindex
X-PUBLISHED-TTL:PT1H
BEGIN:VTIMEZONE
TZID:America/Regina
BEGIN:STANDARD
TZOFFSETFROM:-0600
TZOFFSETTO:-0600
TZNAME:CST
DTSTART:20260101T000000
END:STANDARD
END:VTIMEZONE
BEGIN:VEVENT
DTSTART;TZID=America/Regina:20260502T130000
DTEND;TZID=America/Regina:20260502T153000
DTSTAMP:20260423T231738
CREATED:20251025T162649Z
LAST-MODIFIED:20260320T153630Z
UID:2268-1777726800-1777735800@reginafloralconservatory.ca
SUMMARY:Spring Garden Tea
DESCRIPTION:On May 2nd\, the Regina Garden Associates will be hosting a spring garden tea in our stunning tropical garden. Unwind with your loved ones and appreciate the beautiful scenery of our Patio Lanterns floral display while enjoying coffee\, tea\, and dainties. \nOur Tea will have two sittings: \nFirst sitting: Saturday\, May 2\, 2026. 1:00 pm – 2:00 pm (60 tickets) \nSecond sitting: Saturday\, May 2\, 2026. 2:30 pm – 3:30 pm (60 tickets) \nCost: $25 per person (plus applicable fees/taxes) \nTickets are available through Eventbrite and can be purchased HERE \nTickets will go on sale at noon on Saturday\, April 11\, 2026. \nTickets are first come first served and will sell fast — be prepared. \nIf you require a gluten free option\, please let us know at info@reginafloralconservatory.ca \nAll proceeds will go to the Regina Garden Associates to operate the Regina Floral Conservatory and support our programs. \nDue to capacity limitations\, you must attend the sitting for which you purchased tickets. \n 
URL:https://reginafloralconservatory.ca/event/spring-garden-tea-2/
LOCATION:Regina Floral Conservatory\, 1450B 4th Avenue\, Regina\, Saskatchewan\, S4R 8G8\, Canada
ATTACH;FMTTYPE=image/jpeg:https://reginafloralconservatory.ca/wp-content/uploads/2025/10/Spring-Garden-Tea-Social.jpg
ORGANIZER;CN="Regina Garden Associates":MAILTO:info@reginafloralconservatory.ca
END:VEVENT
END:VCALENDAR