BEGIN:VCALENDAR
VERSION:2.0
PRODID:-//Regina Floral Conservatory - ECPv6.7.1//NONSGML v1.0//EN
CALSCALE:GREGORIAN
METHOD:PUBLISH
X-WR-CALNAME:Regina Floral Conservatory
X-ORIGINAL-URL:https://reginafloralconservatory.ca
X-WR-CALDESC:Events for Regina Floral Conservatory
REFRESH-INTERVAL;VALUE=DURATION:PT1H
X-Robots-Tag:noindex
X-PUBLISHED-TTL:PT1H
BEGIN:VTIMEZONE
TZID:America/Regina
BEGIN:STANDARD
TZOFFSETFROM:-0600
TZOFFSETTO:-0600
TZNAME:CST
DTSTART:20260101T000000
END:STANDARD
END:VTIMEZONE
BEGIN:VEVENT
DTSTART;TZID=America/Regina:20260524T190000
DTEND;TZID=America/Regina:20260524T203000
DTSTAMP:20260424T005220
CREATED:20251213T011629Z
LAST-MODIFIED:20260324T150220Z
UID:2389-1779649200-1779654600@reginafloralconservatory.ca
SUMMARY:Concerts at the Conservatory - Flute Ensemble
DESCRIPTION:Come to the Regina Floral Conservatory on Sunday\, May 24 and enjoy the beautiful music of a flute ensemble! \nWe are trying a something different with this event and moving it to two evening sessions with tickets reserved in advance. \nThe first session will be from 7:00-7:30 pm and the Floral Conservatory will be open at 6 pm for those with tickets reserved for this session. \nThe second session will be from 8:00-8:30 pm and the Floral Conservatory will remain open until 9:30 pm for those with tickets reserved for this session. \n\nTickets can be reserved on our website via Eventbrite HERE \nTicket reservations will go live at noon on Sunday\, May 3\, 2026. \nDue to capacity limitations\, you must attend the session for which you reserved tickets. \n\n  \nSonya Froese\, Maia Essien\, and a third musician to be determined will be playing classical and contemporary music on the flute. \nThis event is in partnership with the South Saskatchewan Youth Orchestra. \nThe South Saskatchewan Youth Orchestra is an award-winning orchestra with 50 members and a commitment to excellence. The SSYO offers talented students from across southern Saskatchewan the opportunity to gain orchestral experience\, including rehearsals\, performances\, travel\, and making lasting friendships with other music lovers. Check out the SSYO website for more information on the organization and their programs by clicking HERE.
URL:https://reginafloralconservatory.ca/event/concerts-at-the-conservatory-flute-ensemble/
LOCATION:Regina Floral Conservatory\, 1450B 4th Avenue\, Regina\, Saskatchewan\, S4R 8G8\, Canada
ATTACH;FMTTYPE=image/jpeg:https://reginafloralconservatory.ca/wp-content/uploads/2025/11/Concerts-a-the-Conservatory_thumbnail.jpg
ORGANIZER;CN="Regina Garden Associates":MAILTO:info@reginafloralconservatory.ca
END:VEVENT
END:VCALENDAR